BEGIN:VCALENDAR
VERSION:2.0
PRODID:-//Acme Widgets\, Inc.//NONSGML ExportToCalendar//EN
CALSCALE:GREGORIAN
BEGIN:VEVENT
DTSTAMP:20260422T163609Z
UID:e8f4d6cd-7237-4226-9b5f-ece6e62bf5c3
DTSTART:20260426T130000
DTEND:20260426T133000
DESCRIPTION:Inspection for 4 / 81 Edward Street\, DAW PARK SA 5041
LOCATION:4 / 81 Edward Street\, DAW PARK SA 5041
SUMMARY:4 / 81 Edward Street\, DAW PARK SA 5041
END:VEVENT
END:VCALENDAR
